BEGIN:VCALENDAR
VERSION:2.0
PRODID:-//Apollo Chorus of Chicago - ECPv6.15.13//NONSGML v1.0//EN
CALSCALE:GREGORIAN
METHOD:PUBLISH
X-ORIGINAL-URL:https://www.apollochorus.org
X-WR-CALDESC:Events for Apollo Chorus of Chicago
REFRESH-INTERVAL;VALUE=DURATION:PT1H
X-Robots-Tag:noindex
X-PUBLISHED-TTL:PT1H
BEGIN:VTIMEZONE
TZID:America/Chicago
BEGIN:DAYLIGHT
TZOFFSETFROM:-0600
TZOFFSETTO:-0500
TZNAME:CDT
DTSTART:20240310T080000
END:DAYLIGHT
BEGIN:STANDARD
TZOFFSETFROM:-0500
TZOFFSETTO:-0600
TZNAME:CST
DTSTART:20241103T070000
END:STANDARD
BEGIN:DAYLIGHT
TZOFFSETFROM:-0600
TZOFFSETTO:-0500
TZNAME:CDT
DTSTART:20250309T080000
END:DAYLIGHT
BEGIN:STANDARD
TZOFFSETFROM:-0500
TZOFFSETTO:-0600
TZNAME:CST
DTSTART:20251102T070000
END:STANDARD
BEGIN:DAYLIGHT
TZOFFSETFROM:-0600
TZOFFSETTO:-0500
TZNAME:CDT
DTSTART:20260308T080000
END:DAYLIGHT
BEGIN:STANDARD
TZOFFSETFROM:-0500
TZOFFSETTO:-0600
TZNAME:CST
DTSTART:20261101T070000
END:STANDARD
END:VTIMEZONE
BEGIN:VEVENT
DTSTART;TZID=America/Chicago:20250607T190000
DTEND;TZID=America/Chicago:20250607T210000
DTSTAMP:20260424T094830
CREATED:20250131T003533Z
LAST-MODIFIED:20250602T175715Z
UID:4710-1749322800-1749330000@www.apollochorus.org
SUMMARY:Brahms' German Requiem
DESCRIPTION:Join us for one of the most beloved and enjoyable works in the choral literature: Johannes Brahms’ Ein Deutsches Requiem in collaboration with the Grace Chorale of Brooklyn\, N.Y. An exquisite piece celebrating the seasons of life and giving courage and consolation as we reflect on times past. \nEmily Birsan\, soprano\nEvan Bravos\, baritone\nDavid Jonies\, organ\nGrace Chorale of Brooklyn (Jason Asbury\, conductor) \nTickets are now available!\n\nPlease Click Here to Purchase Tickets
URL:https://www.apollochorus.org/event/brahms-german-requiem/
LOCATION:Glenview Community Church\, 1000 Elm St\, Glenview\, IL\, 60025\, United States
CATEGORIES:Home Page Carousel,Our Apollo Season
END:VEVENT
END:VCALENDAR