BEGIN:VCALENDAR
VERSION:2.0
PRODID:-//Apollo Chorus of Chicago - ECPv6.15.13//NONSGML v1.0//EN
CALSCALE:GREGORIAN
METHOD:PUBLISH
X-ORIGINAL-URL:https://www.apollochorus.org
X-WR-CALDESC:Events for Apollo Chorus of Chicago
REFRESH-INTERVAL;VALUE=DURATION:PT1H
X-Robots-Tag:noindex
X-PUBLISHED-TTL:PT1H
BEGIN:VTIMEZONE
TZID:America/Chicago
BEGIN:DAYLIGHT
TZOFFSETFROM:-0600
TZOFFSETTO:-0500
TZNAME:CDT
DTSTART:20220313T080000
END:DAYLIGHT
BEGIN:STANDARD
TZOFFSETFROM:-0500
TZOFFSETTO:-0600
TZNAME:CST
DTSTART:20221106T070000
END:STANDARD
BEGIN:DAYLIGHT
TZOFFSETFROM:-0600
TZOFFSETTO:-0500
TZNAME:CDT
DTSTART:20230312T080000
END:DAYLIGHT
BEGIN:STANDARD
TZOFFSETFROM:-0500
TZOFFSETTO:-0600
TZNAME:CST
DTSTART:20231105T070000
END:STANDARD
BEGIN:DAYLIGHT
TZOFFSETFROM:-0600
TZOFFSETTO:-0500
TZNAME:CDT
DTSTART:20240310T080000
END:DAYLIGHT
BEGIN:STANDARD
TZOFFSETFROM:-0500
TZOFFSETTO:-0600
TZNAME:CST
DTSTART:20241103T070000
END:STANDARD
END:VTIMEZONE
BEGIN:VEVENT
DTSTART;TZID=America/Chicago:20230506T190000
DTEND;TZID=America/Chicago:20230506T190000
DTSTAMP:20260425T195834
CREATED:20230109T210117Z
LAST-MODIFIED:20230827T143908Z
UID:4438-1683399600-1683399600@www.apollochorus.org
SUMMARY:Beethoven’s Ninth with the Elmhurst Symphony Orchestra
DESCRIPTION:Join us as we perform Beethoven’s Ninth Symphony with the Elmhurst Symphony Orchestra. There will also be a Pre-Concert Conversation with Dr. Ted Hatmaker at 5:45 PM in the Upper Gathering Area for those who wish to learn more about Beethoven and this magnificent symphony. \n\nPlease click here to purchase tickets
URL:https://www.apollochorus.org/event/beethovens-ninth-with-the-elmhurst-symphony-orchestra/
LOCATION:Elmhurst Christian Reformed Church\, 149 W Brush Hill Road\, Elmhurst\, IL\, 60126\, United States
END:VEVENT
BEGIN:VEVENT
DTSTART;TZID=America/Chicago:20230512T190000
DTEND;TZID=America/Chicago:20230512T190000
DTSTAMP:20260425T195834
CREATED:20230109T213525Z
LAST-MODIFIED:20230827T143943Z
UID:4440-1683918000-1683918000@www.apollochorus.org
SUMMARY:Apollo Goes To The Movies
DESCRIPTION:To close out our season\, join the Apollo Chorus of Chicago as we perform hits from the silver screen which include a diverse and wonderful program celebrating music from the movies!  \nGet ready for some glitz and glamor as we perform classic and contemporary Hollywood hits ranging from Rodgers and Hammerstein to John Williams\, Elton John to Carly Simon! Other spectacular choral arrangements include pieces from La La Land\, Amistad\, Frozen\, The Lion King\, and more!  \nTwo Performances:\nMay 12\, 2023 @ 7pm and\nMay 14\, 2023 @ 3pm* \n*ASL Interpretation will be provided for the Sunday May 14 performance. For seating and more information\, please email info@shp.euu.temporary.site \nPlease click here to purchase tickets
URL:https://www.apollochorus.org/event/apollo-goes-to-the-movies-1/
LOCATION:Gannon Concert Hall – Holtschneider Performance Center at DePaul\, 2330 N Halsted St\, Chicago\, IL\, 60614\, United States
END:VEVENT
BEGIN:VEVENT
DTSTART;TZID=America/Chicago:20230514T150000
DTEND;TZID=America/Chicago:20230514T150000
DTSTAMP:20260425T195834
CREATED:20230109T213734Z
LAST-MODIFIED:20230827T143936Z
UID:4442-1684076400-1684076400@www.apollochorus.org
SUMMARY:Apollo Goes To The Movies
DESCRIPTION:To close out our season\, join the Apollo Chorus of Chicago as we perform hits from the silver screen which include a diverse and wonderful program celebrating music from the movies!  \nGet ready for some glitz and glamor as we perform classic and contemporary Hollywood hits ranging from Rodgers and Hammerstein to John Williams\, Elton John to Carly Simon! Other spectacular choral arrangements include pieces from La La Land\, Amistad\, Frozen\, The Lion King\, and more!  \nTwo Performances:\nMay 12\, 2023 @ 7pm and\nMay 14\, 2023 @ 3pm* \n*ASL Interpretation will be provided for the Sunday May 14 performance. For seating and more information\, please email info@shp.euu.temporary.site \nPlease click here to purchase tickets
URL:https://www.apollochorus.org/event/apollo-goes-to-the-movies-2/
LOCATION:First United Church of Oak Park\, 848 Lake St\, Oak Park\, IL\, 60301\, United States
END:VEVENT
END:VCALENDAR