BEGIN:VCALENDAR
VERSION:2.0
PRODID:-//Apollo Chorus of Chicago - ECPv6.15.13//NONSGML v1.0//EN
CALSCALE:GREGORIAN
METHOD:PUBLISH
X-WR-CALNAME:Apollo Chorus of Chicago
X-ORIGINAL-URL:https://www.apollochorus.org
X-WR-CALDESC:Events for Apollo Chorus of Chicago
REFRESH-INTERVAL;VALUE=DURATION:PT1H
X-Robots-Tag:noindex
X-PUBLISHED-TTL:PT1H
BEGIN:VTIMEZONE
TZID:America/Chicago
BEGIN:DAYLIGHT
TZOFFSETFROM:-0600
TZOFFSETTO:-0500
TZNAME:CDT
DTSTART:20210314T080000
END:DAYLIGHT
BEGIN:STANDARD
TZOFFSETFROM:-0500
TZOFFSETTO:-0600
TZNAME:CST
DTSTART:20211107T070000
END:STANDARD
BEGIN:DAYLIGHT
TZOFFSETFROM:-0600
TZOFFSETTO:-0500
TZNAME:CDT
DTSTART:20220313T080000
END:DAYLIGHT
BEGIN:STANDARD
TZOFFSETFROM:-0500
TZOFFSETTO:-0600
TZNAME:CST
DTSTART:20221106T070000
END:STANDARD
BEGIN:DAYLIGHT
TZOFFSETFROM:-0600
TZOFFSETTO:-0500
TZNAME:CDT
DTSTART:20230312T080000
END:DAYLIGHT
BEGIN:STANDARD
TZOFFSETFROM:-0500
TZOFFSETTO:-0600
TZNAME:CST
DTSTART:20231105T070000
END:STANDARD
BEGIN:DAYLIGHT
TZOFFSETFROM:-0600
TZOFFSETTO:-0500
TZNAME:CDT
DTSTART:20240310T080000
END:DAYLIGHT
BEGIN:STANDARD
TZOFFSETFROM:-0500
TZOFFSETTO:-0600
TZNAME:CST
DTSTART:20241103T070000
END:STANDARD
END:VTIMEZONE
BEGIN:VEVENT
DTSTART;TZID=America/Chicago:20230514T150000
DTEND;TZID=America/Chicago:20230514T150000
DTSTAMP:20260425T092901
CREATED:20230109T213734Z
LAST-MODIFIED:20230827T143936Z
UID:4442-1684076400-1684076400@www.apollochorus.org
SUMMARY:Apollo Goes To The Movies
DESCRIPTION:To close out our season\, join the Apollo Chorus of Chicago as we perform hits from the silver screen which include a diverse and wonderful program celebrating music from the movies!  \nGet ready for some glitz and glamor as we perform classic and contemporary Hollywood hits ranging from Rodgers and Hammerstein to John Williams\, Elton John to Carly Simon! Other spectacular choral arrangements include pieces from La La Land\, Amistad\, Frozen\, The Lion King\, and more!  \nTwo Performances:\nMay 12\, 2023 @ 7pm and\nMay 14\, 2023 @ 3pm* \n*ASL Interpretation will be provided for the Sunday May 14 performance. For seating and more information\, please email info@shp.euu.temporary.site \nPlease click here to purchase tickets
URL:https://www.apollochorus.org/event/apollo-goes-to-the-movies-2/
LOCATION:First United Church of Oak Park\, 848 Lake St\, Oak Park\, IL\, 60301\, United States
END:VEVENT
BEGIN:VEVENT
DTSTART;TZID=America/Chicago:20230512T190000
DTEND;TZID=America/Chicago:20230512T190000
DTSTAMP:20260425T092901
CREATED:20230109T213525Z
LAST-MODIFIED:20230827T143943Z
UID:4440-1683918000-1683918000@www.apollochorus.org
SUMMARY:Apollo Goes To The Movies
DESCRIPTION:To close out our season\, join the Apollo Chorus of Chicago as we perform hits from the silver screen which include a diverse and wonderful program celebrating music from the movies!  \nGet ready for some glitz and glamor as we perform classic and contemporary Hollywood hits ranging from Rodgers and Hammerstein to John Williams\, Elton John to Carly Simon! Other spectacular choral arrangements include pieces from La La Land\, Amistad\, Frozen\, The Lion King\, and more!  \nTwo Performances:\nMay 12\, 2023 @ 7pm and\nMay 14\, 2023 @ 3pm* \n*ASL Interpretation will be provided for the Sunday May 14 performance. For seating and more information\, please email info@shp.euu.temporary.site \nPlease click here to purchase tickets
URL:https://www.apollochorus.org/event/apollo-goes-to-the-movies-1/
LOCATION:Gannon Concert Hall – Holtschneider Performance Center at DePaul\, 2330 N Halsted St\, Chicago\, IL\, 60614\, United States
END:VEVENT
BEGIN:VEVENT
DTSTART;TZID=America/Chicago:20230506T190000
DTEND;TZID=America/Chicago:20230506T190000
DTSTAMP:20260425T092901
CREATED:20230109T210117Z
LAST-MODIFIED:20230827T143908Z
UID:4438-1683399600-1683399600@www.apollochorus.org
SUMMARY:Beethoven’s Ninth with the Elmhurst Symphony Orchestra
DESCRIPTION:Join us as we perform Beethoven’s Ninth Symphony with the Elmhurst Symphony Orchestra. There will also be a Pre-Concert Conversation with Dr. Ted Hatmaker at 5:45 PM in the Upper Gathering Area for those who wish to learn more about Beethoven and this magnificent symphony. \n\nPlease click here to purchase tickets
URL:https://www.apollochorus.org/event/beethovens-ninth-with-the-elmhurst-symphony-orchestra/
LOCATION:Elmhurst Christian Reformed Church\, 149 W Brush Hill Road\, Elmhurst\, IL\, 60126\, United States
END:VEVENT
BEGIN:VEVENT
DTSTART;TZID=America/Chicago:20230401T190000
DTEND;TZID=America/Chicago:20230401T190000
DTSTAMP:20260425T092901
CREATED:20230109T205605Z
LAST-MODIFIED:20230405T161420Z
UID:4436-1680375600-1680375600@www.apollochorus.org
SUMMARY:Apollo After Hours 2023
DESCRIPTION:This joyous annual cabaret fundraiser brings together the Apollo community to share a love of music and to support the chorus with much-needed funds. In the wake of the pandemic\, Apollo needs that community support more than ever. \nPlease click here to purchase After Hours tickets \nPlease help us keep on singing! \nJoin us for After Hours 2023 and help Apollo lift our voices in our 152nd Season\, starting this summer— and beyond! \nSaturday\, April 1\, 2023 at 7:00 PM
URL:https://www.apollochorus.org/event/apollo-after-hours-2023/
LOCATION:The Rhapsody Theater\, 1328 W Morse Ave\, Chicago\, IL\, 60626\, United States
END:VEVENT
BEGIN:VEVENT
DTSTART;TZID=America/Chicago:20230312T150000
DTEND;TZID=America/Chicago:20230312T170000
DTSTAMP:20260425T092901
CREATED:20230109T204424Z
LAST-MODIFIED:20230314T133326Z
UID:4426-1678633200-1678640400@www.apollochorus.org
SUMMARY:Petite Messe Solennelle
DESCRIPTION:Rossini’s Petite Messe Solennelle is the finest work of Rossini’s late years. This is a heart-warming and celebratory work\, full of Rossinian quirks and bursting with humor\, charm\, and sincerity. Together with the “Stabat mater”\, the Messe is one of the composer’s most important sacred works. \nPlease click here to purchase tickets \nThis program is partially supported by a grant from the Illinois Arts Council\, a state agency.
URL:https://www.apollochorus.org/event/petite-messe-solennelle/
LOCATION:First United Methodist Church\, 516 Church St\, Evanston\, IL\, 60201\, United States
END:VEVENT
BEGIN:VEVENT
DTSTART;TZID=America/Chicago:20221211T150000
DTEND;TZID=America/Chicago:20221211T150000
DTSTAMP:20260425T092901
CREATED:20220914T135657Z
LAST-MODIFIED:20230109T205753Z
UID:4348-1670770800-1670770800@www.apollochorus.org
SUMMARY:Händel's Messiah
DESCRIPTION:Apollo Gives Back: Enjoy 50% Off Messiah Tickets!\n \nOne of Chicago’s greatest holiday traditions\, audiences flock to hear the thrilling renditions of Händel’s Messiah by the Apollo Chorus. This year we’re proud to announce a quartet of internationally-acclaimed soloists\, including soprano Hannah De Priest\, countertenor Ryan Belongie\, tenor Ryan Townsend Strand\, and baritone Bill McMurray.\n \nThis program is partially supported by a grant from the Illinois Arts Council\, a state agency.\n \nTickets are available HERE.\n \nTo keep our community safe\, the following COVID-19 measures will be in place:\n \nAll Chorus members are vaccinated.\n \nCOVID-19 protocols will be in line with local City/State mandates in place at the time of the concert and\, along with any masking directives\, will be updated within the event as we get closer to the concert date.\n \nThank you for your cooperation in protecting the health of our community.\n \nRun time 2 hours and 50 minutes
URL:https://www.apollochorus.org/event/handels-messiah-4/
LOCATION:Harris Theater for Music and Dance\, 205 E Randolph St\, Chicago\, IL\, 60601\, United States
END:VEVENT
BEGIN:VEVENT
DTSTART;TZID=America/Chicago:20221210T150000
DTEND;TZID=America/Chicago:20221210T150000
DTSTAMP:20260425T092901
CREATED:20220914T135454Z
LAST-MODIFIED:20230109T205757Z
UID:4346-1670684400-1670684400@www.apollochorus.org
SUMMARY:Händel's Messiah
DESCRIPTION:Apollo Gives Back: Enjoy 50% Off Messiah Tickets!\n \nOne of Chicago’s greatest holiday traditions\, audiences flock to hear the thrilling renditions of Händel’s Messiah by the Apollo Chorus. This year we’re proud to announce a quartet of internationally-acclaimed soloists\, including soprano Hannah De Priest\, countertenor Ryan Belongie\, tenor Ryan Townsend Strand\, and baritone Bill McMurray.\n \nThis program is partially supported by a grant from the Illinois Arts Council\, a state agency.\n \nTickets are available HERE.\n \nTo keep our community safe\, the following COVID-19 measures will be in place:\n \nAll Chorus members are vaccinated.\n \nCOVID-19 protocols will be in line with local City/State mandates in place at the time of the concert and\, along with any masking directives\, will be updated within the event as we get closer to the concert date.\n \nThank you for your cooperation in protecting the health of our community.\n \nRun time 2 hours and 50 minutes
URL:https://www.apollochorus.org/event/handels-messiah-3/
LOCATION:Harris Theater for Music and Dance\, 205 E Randolph St\, Chicago\, IL\, 60601\, United States
END:VEVENT
BEGIN:VEVENT
DTSTART;TZID=America/Chicago:20221120T150000
DTEND;TZID=America/Chicago:20221120T163000
DTSTAMP:20260425T092901
CREATED:20220909T190633Z
LAST-MODIFIED:20221129T171800Z
UID:4341-1668956400-1668961800@www.apollochorus.org
SUMMARY:King Roger with the Chicago Opera Theater
DESCRIPTION:Chicago Opera Theater partners with the acclaimed Apollo Chorus of Chicago for the Chicago premiere of King Roger\, composed by Karol Szymanowski. \nBuy Tickets
URL:https://www.apollochorus.org/event/king-roger-with-the-chicago-opera-theater-2/
LOCATION:Harris Theater for Music and Dance\, 205 E Randolph St\, Chicago\, IL\, 60601\, United States
END:VEVENT
BEGIN:VEVENT
DTSTART;TZID=America/Chicago:20221118T193000
DTEND;TZID=America/Chicago:20221118T210000
DTSTAMP:20260425T092901
CREATED:20220909T181452Z
LAST-MODIFIED:20221129T171819Z
UID:4337-1668799800-1668805200@www.apollochorus.org
SUMMARY:King Roger with the Chicago Opera Theater
DESCRIPTION:Chicago Opera Theater partners with the acclaimed Apollo Chorus of Chicago for the Chicago premiere of King Roger\, composed by Karol Szymanowski. \nBuy Tickets
URL:https://www.apollochorus.org/event/king-roger-with-the-chicago-opera-theater/
LOCATION:Harris Theater for Music and Dance\, 205 E Randolph St\, Chicago\, IL\, 60601\, United States
END:VEVENT
BEGIN:VEVENT
DTSTART;TZID=America/Chicago:20221023T150000
DTEND;TZID=America/Chicago:20221023T170000
DTSTAMP:20260425T092901
CREATED:20220902T135935Z
LAST-MODIFIED:20221025T180246Z
UID:4350-1666537200-1666544400@www.apollochorus.org
SUMMARY:Fall Preview Concert
DESCRIPTION:We preview our 2022-23 season with selections from Rossini’s Petite Messe Solennelle\, Szymanowski’s King Roger\, Beethoven’s Ninth Symphony\, Händel’s Messiah\, and Music from the Movies. Admission is free!
URL:https://www.apollochorus.org/event/fall-preview-concert/
LOCATION:St. Michael Church in Old Town\, 1633 N Cleveland Ave\, Chicago\, IL\, 60614\, United States
END:VEVENT
BEGIN:VEVENT
DTSTART;TZID=America/Chicago:20220924T193000
DTEND;TZID=America/Chicago:20220924T220000
DTSTAMP:20260425T092901
CREATED:20220901T180121Z
LAST-MODIFIED:20221015T181549Z
UID:4333-1664047800-1664056800@www.apollochorus.org
SUMMARY:Beethoven’s Ninth with the Peoria Symphony Orchestra
DESCRIPTION:Join us as we perform Beethoven’s Ninth Symphony with the Peoria Symphony Orchestra
URL:https://www.apollochorus.org/event/beethovens-ninth-with-the-peoria-symphony-orchestra/
LOCATION:Grace Presbyterian Church\, 8607 IL-91\, Peoria\, IL\, 61615\, United States
END:VEVENT
END:VCALENDAR