BEGIN:VCALENDAR
VERSION:2.0
PRODID:-//Apollo Chorus of Chicago - ECPv6.15.13//NONSGML v1.0//EN
CALSCALE:GREGORIAN
METHOD:PUBLISH
X-ORIGINAL-URL:https://www.apollochorus.org
X-WR-CALDESC:Events for Apollo Chorus of Chicago
REFRESH-INTERVAL;VALUE=DURATION:PT1H
X-Robots-Tag:noindex
X-PUBLISHED-TTL:PT1H
BEGIN:VTIMEZONE
TZID:America/Chicago
BEGIN:DAYLIGHT
TZOFFSETFROM:-0600
TZOFFSETTO:-0500
TZNAME:CDT
DTSTART:20240310T080000
END:DAYLIGHT
BEGIN:STANDARD
TZOFFSETFROM:-0500
TZOFFSETTO:-0600
TZNAME:CST
DTSTART:20241103T070000
END:STANDARD
BEGIN:DAYLIGHT
TZOFFSETFROM:-0600
TZOFFSETTO:-0500
TZNAME:CDT
DTSTART:20250309T080000
END:DAYLIGHT
BEGIN:STANDARD
TZOFFSETFROM:-0500
TZOFFSETTO:-0600
TZNAME:CST
DTSTART:20251102T070000
END:STANDARD
BEGIN:DAYLIGHT
TZOFFSETFROM:-0600
TZOFFSETTO:-0500
TZNAME:CDT
DTSTART:20260308T080000
END:DAYLIGHT
BEGIN:STANDARD
TZOFFSETFROM:-0500
TZOFFSETTO:-0600
TZNAME:CST
DTSTART:20261101T070000
END:STANDARD
BEGIN:DAYLIGHT
TZOFFSETFROM:-0600
TZOFFSETTO:-0500
TZNAME:CDT
DTSTART:20270314T080000
END:DAYLIGHT
BEGIN:STANDARD
TZOFFSETFROM:-0500
TZOFFSETTO:-0600
TZNAME:CST
DTSTART:20271107T070000
END:STANDARD
END:VTIMEZONE
BEGIN:VEVENT
DTSTART;TZID=America/Chicago:20250823T193000
DTEND;TZID=America/Chicago:20250823T213000
DTSTAMP:20260425T065228
CREATED:20250804T011742Z
LAST-MODIFIED:20250804T011742Z
UID:4808-1755977400-1755984600@www.apollochorus.org
SUMMARY:Mahler's Symphony No. 2 at Peninsula Music Festival
DESCRIPTION:Join us in Door County\, Wisconsin as we perform Mahler’s Symphony No. 2 (‘Resurrection’ Symphony) alongside the Festival Orchestra to conclude the 2025 Peninsula Music Festival! Under Maestro Rune Bergmann as conductor\, and joined by soloists Jacquelyn Wagner (soprano) and Abigail Nims (Mezzo-soprano)\, the performance promises to be a powerful rendition of one of the most celebrated works in all of orchestral music. \n\nPlease click here to purchase tickets
URL:https://www.apollochorus.org/event/mahlers-symphony-no-2-at-peninsula-music-festival/
LOCATION:Door County Auditorium\, 3926 Hwy. 42\, Fish Creek\, WI\, 54212\, United States
CATEGORIES:Home Page Carousel,In the Community,Our Apollo Season
END:VEVENT
BEGIN:VEVENT
DTSTART;TZID=America/Chicago:20251018T193000
DTEND;TZID=America/Chicago:20251018T220000
DTSTAMP:20260425T065228
CREATED:20250804T012907Z
LAST-MODIFIED:20250922T225508Z
UID:4812-1760815800-1760824800@www.apollochorus.org
SUMMARY:Damien Geter's 'An African-American Requiem' at Ear Taxi Festival
DESCRIPTION:Join us for the Midwest premier of Damien Geter’s ‘An African-American Requiem’ alongside the Chicago Philharmonic as part of Ear Taxi Festival 2025! \n  \nPlease click here for full event information \n  \nSoloists for this performance\n\n\nTiana Sorenson\nSoprano\nRead more about Tiana on Tiana’s Official Site \n\n\n\n\nLeah Dexter\nMezzo Soprano\nRead more about Leah on Leah’s Official Site\nPhoto by Michelle Lee \n\n\n\n\nCameo Humes\nTenor \n\n\n\n\nKhary Laurent\nBaritone
URL:https://www.apollochorus.org/event/damien-geters-an-african-american-requiem-at-ear-taxi-festival/
LOCATION:Harris Theater for Music and Dance\, 205 E Randolph St\, Chicago\, IL\, 60601\, United States
CATEGORIES:Home Page Carousel,In the Community,Our Apollo Season
ATTACH;FMTTYPE=image/jpeg:https://www.apollochorus.org/wp-content/uploads/2025/08/Ear-Taxi-Apollo-1.jpg
END:VEVENT
BEGIN:VEVENT
DTSTART;TZID=America/Chicago:20251117T193000
DTEND;TZID=America/Chicago:20251117T210000
DTSTAMP:20260425T065228
CREATED:20250804T231320Z
LAST-MODIFIED:20250923T153820Z
UID:4909-1763407800-1763413200@www.apollochorus.org
SUMMARY:Holst's The Planets with the Chicago Civic Orchestra
DESCRIPTION:Join us for Holst’s The Planets alongside the Chicago Civic Orchestra at Symphony Center! Apollo Chorus sopranos and altos will help bring one of the orchestral world’s most celebrated and widely known symphonic classics to life! \nTickets available at the Chicago Symphony Orchestra website.
URL:https://www.apollochorus.org/event/holsts-the-planets-with-the-chicago-civic-orchestra/
LOCATION:Chicago Symphony Center
CATEGORIES:Home Page Carousel,In the Community,Our Apollo Season
ATTACH;FMTTYPE=image/jpeg:https://www.apollochorus.org/wp-content/uploads/2025/09/Holts-The-Planets-Apollo.jpg
END:VEVENT
BEGIN:VEVENT
DTSTART;TZID=America/Chicago:20251213T193000
DTEND;TZID=America/Chicago:20251213T220000
DTSTAMP:20260425T065228
CREATED:20250816T162950Z
LAST-MODIFIED:20251213T013448Z
UID:4824-1765654200-1765663200@www.apollochorus.org
SUMMARY:Händel's Messiah
DESCRIPTION:One of Chicago’s greatest holiday traditions\, audiences flock to hear the thrilling renditions of Händel’s Messiah by the Apollo Chorus. \n Concert Day Information\nConcert Time: 7:30 PM\nDoors Open: 7:00 PM | There is no pre-concert lecture for this performance. All seating except accessible seating is GA.\nRun Time: 2hr 30 mins\, including intermission (Nos. 22 & 23 are omitted from this performance)\nParking: FREE | 14 W. Superior Street (1-min walk) ADA/handicap spots available \n\nPlease Click Here to Purchase Tickets \n  \nSoloists for this performance\n\n \nEmily Birsan\nSoprano\nRead more about Emily on Emily’s Official Site\nPhoto by Jaclyn Simpson 2025 \n\n\n\n \nStephanie Sánchez\nMezzo Soprano\nRead more about Stephanie on Stephanie’s Official Site \n\n\n\n \nJames Reese\nTenor\nRead more about James on James’s Official Site \n\n\n\n \nPeter Morgan\nBaritone\nRead more about Peter on Peter’s Official Site
URL:https://www.apollochorus.org/event/handels-messiah-5/
LOCATION:Holy Name Cathedral\, 735 N State St\, Chicago\, IL\, 60654\, United States
CATEGORIES:Home Page Carousel,Our Apollo Season
ATTACH;FMTTYPE=image/jpeg:https://www.apollochorus.org/wp-content/uploads/2025/08/Messiah-Dec-13-Apollo-Cropped.jpg
END:VEVENT
BEGIN:VEVENT
DTSTART;TZID=America/Chicago:20251214T140000
DTEND;TZID=America/Chicago:20251214T170000
DTSTAMP:20260425T065228
CREATED:20250816T163119Z
LAST-MODIFIED:20251213T013303Z
UID:4828-1765720800-1765731600@www.apollochorus.org
SUMMARY:Händel's Messiah
DESCRIPTION:One of Chicago’s greatest holiday traditions\, audiences flock to hear the thrilling renditions of Händel’s Messiah by the Apollo Chorus. \n Concert Day Information\nConcert Time: 2:00 PM\nDoors Open: 1:30 PM | There is no pre-concert lecture for this performance. All seating except accessible seating is GA.\nRun Time: 2hr 45 mins\, including intermission\nParking: FREE | Church Street Self Park | 525 Church St\, Evanston\, IL 60201 (5-min walk)\n    — or —\n    FREE | Handicap parking is available in the east parking lot (#223). A government permit is required. Other patrons with limited mobility can park in lot #223 but can only park in spots with Northwestern signage. \n\nPlease Click Here to Purchase Tickets \n  \nSoloists for this performance\n\n \nEmily Birsan\nSoprano\nRead more about Emily on Emily’s Official Site\nPhoto by Jaclyn Simpson 2025 \n\n\n\n \nStephanie Sánchez\nMezzo Soprano\nRead more about Stephanie on Stephanie’s Official Site \n\n\n\n \nJames Reese\nTenor\nRead more about James on James’s Official Site \n\n\n\n \nPeter Morgan\nBaritone\nRead more about Peter on Peter’s Official Site
URL:https://www.apollochorus.org/event/handels-messiah-6/
LOCATION:Alice Millar Chapel\, 1870 Sheridan Rd\, Evanston\, IL\, 60208\, United States
CATEGORIES:Home Page Carousel,Our Apollo Season
ATTACH;FMTTYPE=image/jpeg:https://www.apollochorus.org/wp-content/uploads/2025/08/Messiah-Dec-14-Apollo-Cropped.jpg
END:VEVENT
BEGIN:VEVENT
DTSTART;TZID=America/Chicago:20260314T160000
DTEND;TZID=America/Chicago:20260314T200000
DTSTAMP:20260425T065228
CREATED:20251028T232645Z
LAST-MODIFIED:20260314T163018Z
UID:5075-1773504000-1773518400@www.apollochorus.org
SUMMARY:Bach's St. Matthew Passion
DESCRIPTION:Join the Apollo Chorus as it performs Johann Sebastian Bach’s St. Matthew Passion with the Elmhurst Symphony Orchestra! Widely regarded as one of highest masterpieces of Baroque sacred music\, and scored for double choir and double orchestra\, this is a performance that guarantees to be as powerful as it is unforgettable. \nTickets for this performance may be purchased through the ESO website. \nPlease Click Here to Purchase Tickets \nKnow before you go!\nRun Time: 4 hours\, including 90-minute dinner break\nTranslations: Projected English translations will be available for the entire show.\nParking: FREE | Patrons may park in the church parking lot\nAccessibility: This venue is fully accessible for those with limited mobility \nConcert Program Book \n  \nSoloists for this performance\n\n \nSteven Soph\nTenor (Evangelist)\nRead more about Steven on Steven’s Official Site \n\n\n\n \nEvan Bravos\nBaritone (Jesus)\nRead more about Evan on Evan’s Official Site \n\n\n\n \nJosefien Stoppelenburg\nSoprano\nRead more about Josefien on Josefien’s Official Site\nPhoto by Hilde Schreur \n\n\n\n \nSarah Ponder\nMezzo Soprano \n\n\n\n \nBrian Skoog\nTenor\nRead more about Brian on Brian’s Official Site\nPhoto by Lisa Jones \n\n\n\n \nAndrew Garratt\nBaritone
URL:https://www.apollochorus.org/event/bachs-st-matthew-passion-elmhurst/
LOCATION:Elmhurst Christian Reformed Church\, 149 W Brush Hill Road\, Elmhurst\, IL\, 60126\, United States
CATEGORIES:Home Page Carousel,Our Apollo Season
ATTACH;FMTTYPE=image/jpeg:https://www.apollochorus.org/wp-content/uploads/2025/10/bach-stmatthewpassion-sat2026.jpg
END:VEVENT
BEGIN:VEVENT
DTSTART;TZID=America/Chicago:20260315T150000
DTEND;TZID=America/Chicago:20260315T180000
DTSTAMP:20260425T065228
CREATED:20250816T163320Z
LAST-MODIFIED:20260315T025206Z
UID:4947-1773586800-1773597600@www.apollochorus.org
SUMMARY:Bach's St. Matthew Passion
DESCRIPTION:Join the Apollo Chorus as it performs Johann Sebastian Bach’s St. Matthew Passion with the Elmhurst Symphony Orchestra! Widely regarded as one of highest masterpieces of Baroque sacred music\, and scored for double choir and double orchestra\, this is a performance that guarantees to be as powerful as it is unforgettable. \nTickets are now available! \nPlease Click Here to Purchase Tickets \nKnow before you go!\nRun Time: 3 hours\, including a 25-minute intermission\nTranslations: Projected English translations will be available for the entire show.\nParking: FREE | Patrons may park in the lot that is located at the corner of Roosevelt/Racine\, just west of the church building.\nAccessibility: Handicap access to the church is provided in the Burke Gearing Center just west of the main church doors. The entrance to the center is at the corner of May Street and Roosevelt Road. \nConcert Program Book \nTicketing: \n\nStudents 18+ will require a student ID upon arrival\nWe accept both digital and printed tickets\nWill-call tickets will be available for those who requested them\n\nSoloists for this performance\n\n \nSteven Soph\nTenor (Evangelist)\nRead more about Steven on Steven’s Official Site \n\n\n\n \nEvan Bravos\nBaritone (Jesus)\nRead more about Evan on Evan’s Official Site \n\n\n\n \nJosefien Stoppelenburg\nSoprano\nRead more about Josefien on Josefien’s Official Site\nPhoto by Hilde Schreur \n\n\n\n \nSarah Ponder\nMezzo Soprano \n\n\n\n \nBrian Skoog\nTenor\nRead more about Brian on Brian’s Official Site\nPhoto by Lisa Jones \n\n\n\n \nAndrew Garratt\nBaritone
URL:https://www.apollochorus.org/event/4947/
LOCATION:Church of the Holy Family\, 1080 West Roosevelt Road\, Chicago\, IL\, 60608\, United States
CATEGORIES:Home Page Carousel,Our Apollo Season
ATTACH;FMTTYPE=image/jpeg:https://www.apollochorus.org/wp-content/uploads/2025/08/Bach-Passion-Mar-15-Apollo-Cropped-Purple.jpg
END:VEVENT
BEGIN:VEVENT
DTSTART;TZID=America/Chicago:20260418T190000
DTEND;TZID=America/Chicago:20260418T220000
DTSTAMP:20260425T065228
CREATED:20260326T041719Z
LAST-MODIFIED:20260330T211109Z
UID:5155-1776538800-1776549600@www.apollochorus.org
SUMMARY:After Hours 2026
DESCRIPTION:Apollo After Hours will return on Saturday April 18\, 2026 at 7PM Central! \nClick Here for More Information
URL:https://www.apollochorus.org/event/apollo-after-hours-2026/
LOCATION:The Rhapsody Theater\, 1328 W Morse Ave\, Chicago\, IL\, 60626\, United States
ATTACH;FMTTYPE=image/png:https://www.apollochorus.org/wp-content/uploads/2026/03/AAH-Website-Listing-CORRECTED.png
END:VEVENT
BEGIN:VEVENT
DTSTART;TZID=America/Chicago:20260419T140000
DTEND;TZID=America/Chicago:20260419T153000
DTSTAMP:20260425T065228
CREATED:20260321T231059Z
LAST-MODIFIED:20260321T231059Z
UID:5142-1776607200-1776612600@www.apollochorus.org
SUMMARY:Irving Park Fine Arts Fest Showcase
DESCRIPTION:Join us on Sunday\, April 19\, 2026 at 2:00 p.m. at Irving Park Lutheran Church\, 4100 N. Harding Avenue\, Chicago IL for a free Spring concert featuring selections from our Spring program\, America Sings!.
URL:https://www.apollochorus.org/event/irving-park-fine-arts-fest-showcase/
LOCATION:Irving Park Lutheran Church\, 4100 N. Harding Avenue\, Chicago\, IL\, 60618\, United States
ATTACH;FMTTYPE=image/png:https://www.apollochorus.org/wp-content/uploads/2026/03/Irving-Park-Fine-Arts-Fest.png
END:VEVENT
BEGIN:VEVENT
DTSTART;TZID=America/Chicago:20260508T200000
DTEND;TZID=America/Chicago:20260508T220000
DTSTAMP:20260425T065228
CREATED:20250816T163453Z
LAST-MODIFIED:20260330T211235Z
UID:4832-1778270400-1778277600@www.apollochorus.org
SUMMARY:America Sings
DESCRIPTION:Musical reflections on 250 years of hope\, inclusion\, and perseverance \nIn honor of the 250th birthday of the United States\, the Apollo Chorus offers a thrilling review of choral music from 1776 to the present with music by William Billings\, Justin Holland\, Elaine Hagenberg\, Dale Trumbore\, Moses Hogan\, Shawn Kirchner\, Eric Whitacre\, and Lin-Manuel Miranda. \nTickets are now available! \nPlease Click Here to Purchase Tickets
URL:https://www.apollochorus.org/event/america-sings/
LOCATION:St. Michael Church in Old Town\, 1633 N Cleveland Ave\, Chicago\, IL\, 60614\, United States
CATEGORIES:Home Page Carousel,Our Apollo Season
ATTACH;FMTTYPE=image/png:https://www.apollochorus.org/wp-content/uploads/2025/08/America-Sings-169.png
END:VEVENT
BEGIN:VEVENT
DTSTART;TZID=America/Chicago:20260509T193000
DTEND;TZID=America/Chicago:20260509T213000
DTSTAMP:20260425T065228
CREATED:20250816T163542Z
LAST-MODIFIED:20260330T211218Z
UID:4834-1778355000-1778362200@www.apollochorus.org
SUMMARY:America Sings
DESCRIPTION:Musical reflections on 250 years of hope\, inclusion\, and perseverance \nIn honor of the 250th birthday of the United States\, the Apollo Chorus offers a thrilling review of choral music from 1776 to the present with music by William Billings\, Justin Holland\, Elaine Hagenberg\, Dale Trumbore\, Moses Hogan\, Shawn Kirchner\, Eric Whitacre\, and Lin-Manuel Miranda. \nTickets are now available! \nPlease Click Here to Purchase Tickets
URL:https://www.apollochorus.org/event/america-sings-2/
LOCATION:First United Church of Oak Park\, 848 Lake St\, Oak Park\, IL\, 60301\, United States
CATEGORIES:Home Page Carousel,Our Apollo Season
ATTACH;FMTTYPE=image/png:https://www.apollochorus.org/wp-content/uploads/2025/08/America-Sings-169.png
END:VEVENT
END:VCALENDAR