BEGIN:VCALENDAR
VERSION:2.0
PRODID:-//Apollo Chorus of Chicago - ECPv6.15.13//NONSGML v1.0//EN
CALSCALE:GREGORIAN
METHOD:PUBLISH
X-ORIGINAL-URL:https://www.apollochorus.org
X-WR-CALDESC:Events for Apollo Chorus of Chicago
REFRESH-INTERVAL;VALUE=DURATION:PT1H
X-Robots-Tag:noindex
X-PUBLISHED-TTL:PT1H
BEGIN:VTIMEZONE
TZID:America/Chicago
BEGIN:DAYLIGHT
TZOFFSETFROM:-0600
TZOFFSETTO:-0500
TZNAME:CDT
DTSTART:20220313T080000
END:DAYLIGHT
BEGIN:STANDARD
TZOFFSETFROM:-0500
TZOFFSETTO:-0600
TZNAME:CST
DTSTART:20221106T070000
END:STANDARD
BEGIN:DAYLIGHT
TZOFFSETFROM:-0600
TZOFFSETTO:-0500
TZNAME:CDT
DTSTART:20230312T080000
END:DAYLIGHT
BEGIN:STANDARD
TZOFFSETFROM:-0500
TZOFFSETTO:-0600
TZNAME:CST
DTSTART:20231105T070000
END:STANDARD
BEGIN:DAYLIGHT
TZOFFSETFROM:-0600
TZOFFSETTO:-0500
TZNAME:CDT
DTSTART:20240310T080000
END:DAYLIGHT
BEGIN:STANDARD
TZOFFSETFROM:-0500
TZOFFSETTO:-0600
TZNAME:CST
DTSTART:20241103T070000
END:STANDARD
BEGIN:DAYLIGHT
TZOFFSETFROM:-0600
TZOFFSETTO:-0500
TZNAME:CDT
DTSTART:20250309T080000
END:DAYLIGHT
BEGIN:STANDARD
TZOFFSETFROM:-0500
TZOFFSETTO:-0600
TZNAME:CST
DTSTART:20251102T070000
END:STANDARD
END:VTIMEZONE
BEGIN:VEVENT
DTSTART;TZID=America/Chicago:20241103T150000
DTEND;TZID=America/Chicago:20241103T163000
DTSTAMP:20260423T225900
CREATED:20240730T232121Z
LAST-MODIFIED:20240816T141311Z
UID:4697-1730646000-1730651400@www.apollochorus.org
SUMMARY:Music in the Neighborhood
DESCRIPTION:The Apollo Chorus of Chicago will preview our 2024-25 season with selections from Händel’s Messiah\, Brahms’ German Requiem\, and varied selection from our Spring program called “From the Earth to the Stars!” \nThis concert is free.
URL:https://www.apollochorus.org/event/music-in-the-neighborhood/
LOCATION:St Paul of the Cross\, 320 S Washington Ave\, Park Ridge\, IL\, 60068\, United States
CATEGORIES:Home Page Carousel,In the Community,Our Apollo Season
END:VEVENT
BEGIN:VEVENT
DTSTART;TZID=America/Chicago:20240505T150000
DTEND;TZID=America/Chicago:20240505T150000
DTSTAMP:20260423T225900
CREATED:20230826T161040Z
LAST-MODIFIED:20240409T210657Z
UID:4562-1714921200-1714921200@www.apollochorus.org
SUMMARY:A French Festival
DESCRIPTION:Led by Guest Conductor Pierre-Fabien Roubaty\, the Apollo Chorus of Chicago will present a glorious compilation of pieces by French composers\, including Francis Poulenc’s Gloria\, the March & Chorus from Bizet’s Carmen\, and several French motets. \nTickets are now available! \nPlease Click Here to Purchase Tickets
URL:https://www.apollochorus.org/event/a-french-festival-2/
LOCATION:St. Michael Church in Old Town\, 1633 N Cleveland Ave\, Chicago\, IL\, 60614\, United States
CATEGORIES:Home Page Carousel,In the Community,Our Apollo Season
END:VEVENT
BEGIN:VEVENT
DTSTART;TZID=America/Chicago:20240503T190000
DTEND;TZID=America/Chicago:20240503T190000
DTSTAMP:20260423T225900
CREATED:20230826T160938Z
LAST-MODIFIED:20240409T210545Z
UID:4560-1714762800-1714762800@www.apollochorus.org
SUMMARY:A French Festival
DESCRIPTION:Led by Guest Conductor Pierre-Fabien Roubaty\, the Apollo Chorus of Chicago will present a glorious compilation of pieces by French composers\, including Francis Poulenc’s Gloria\, the March & Chorus from Bizet’s Carmen\, and several French motets. \nTickets are now available! \nPlease Click Here to Purchase Tickets
URL:https://www.apollochorus.org/event/a-french-festival-1/
LOCATION:Kehrein Center for the Arts\, 5628 W Washington Blvd\, Chicago\, IL\, 60644\, United States
CATEGORIES:Home Page Carousel,In the Community,Our Apollo Season
END:VEVENT
BEGIN:VEVENT
DTSTART;TZID=America/Chicago:20240406T190000
DTEND;TZID=America/Chicago:20240406T230000
DTSTAMP:20260423T225900
CREATED:20230825T175010Z
LAST-MODIFIED:20240207T185914Z
UID:4652-1712430000-1712444400@www.apollochorus.org
SUMMARY:Apollo After Hours 2024
DESCRIPTION:This joyous annual cabaret fundraiser brings together the Apollo community to share a love of music and to support the chorus with much-needed funds. In light of recent economic challenges\, Apollo needs that community support more than ever. \nJoin us for After Hours 2024 and help Apollo lift our voices in our 153rd Season\, starting this summer— and beyond! \nPlease click here to purchase After Hours tickets \nPlease help us keep on singing! \nSaturday\, April 6\, 2024 at 7:00 PM
URL:https://www.apollochorus.org/event/apollo-after-hours-2024/
LOCATION:Duffy’s Tavern and Grille\, 420 W Diversey Pkwy\, Chicago\, IL\, 60614\, United States
CATEGORIES:Home Page Carousel,In the Community,Our Apollo Season
END:VEVENT
BEGIN:VEVENT
DTSTART;TZID=America/Chicago:20240310T160000
DTEND;TZID=America/Chicago:20240310T160000
DTSTAMP:20260423T225900
CREATED:20230824T160756Z
LAST-MODIFIED:20240207T223527Z
UID:4558-1710086400-1710086400@www.apollochorus.org
SUMMARY:Majestic Bruckner
DESCRIPTION:2024 will mark the 200th birthday of Austrian composer and organist Anton Bruckner! An exceptional figure known for his symphonies and sacred music\, Bruckner’s works are punctuated with expansive\, organ-like walls of sound. This winter\, the Apollo Chorus of Chicago will be joined by the Elmhurst Symphony Orchestra in presenting Bruckner’s Psalm 150\, Te Deum and several motets. \nTickets are now available!\n\nPlease Click Here to Purchase Tickets
URL:https://www.apollochorus.org/event/majestic-bruckner-2/
LOCATION:Elmhurst Christian Reformed Church\, 149 W Brush Hill Road\, Elmhurst\, IL\, 60126\, United States
CATEGORIES:Home Page Carousel,In the Community,Our Apollo Season
END:VEVENT
BEGIN:VEVENT
DTSTART;TZID=America/Chicago:20240309T190000
DTEND;TZID=America/Chicago:20240309T190000
DTSTAMP:20260423T225900
CREATED:20230824T160641Z
LAST-MODIFIED:20240207T223456Z
UID:4556-1710010800-1710010800@www.apollochorus.org
SUMMARY:Majestic Bruckner
DESCRIPTION:2024 will mark the 200th birthday of Austrian composer and organist Anton Bruckner! An exceptional figure known for his symphonies and sacred music\, Bruckner’s works are punctuated with expansive\, organ-like walls of sound. This winter\, the Apollo Chorus of Chicago will be joined by the Elmhurst Symphony Orchestra in presenting Bruckner’s Psalm 150\, Te Deum and several motets. \nTickets are now available!\n\nPlease Click Here to Purchase Tickets
URL:https://www.apollochorus.org/event/majestic-bruckner-1/
LOCATION:Glenview Community Church\, 1000 Elm St\, Glenview\, IL\, 60025\, United States
CATEGORIES:Home Page Carousel,In the Community,Our Apollo Season
END:VEVENT
BEGIN:VEVENT
DTSTART;TZID=America/Chicago:20231210T190000
DTEND;TZID=America/Chicago:20231210T190000
DTSTAMP:20260423T225900
CREATED:20230826T160318Z
LAST-MODIFIED:20231027T153720Z
UID:4554-1702234800-1702234800@www.apollochorus.org
SUMMARY:Händel's Messiah
DESCRIPTION:One of Chicago’s greatest holiday traditions\, audiences flock to hear the thrilling renditions of Händel’s Messiah by the Apollo Chorus. This year we are proud to announce a quartet of internationally-acclaimed soloists\, including soprano Katelyn Lee\, mezzo-soprano Lindsey Adams\, tenor Sam Krausz\, and bass Bill McMurray. \nSeating at Alice Millar Chapel is general admission. Tickets are priced at $35 for students and $50 for regular attendees. Group rates are available. \nTickets are now available!\n\nPlease Click Here to Purchase Tickets
URL:https://www.apollochorus.org/event/handels-messiah-2023-2/
LOCATION:Alice Millar Chapel\, 1870 Sheridan Rd\, Evanston\, IL\, 60208\, United States
CATEGORIES:Home Page Carousel,In the Community,Our Apollo Season
END:VEVENT
BEGIN:VEVENT
DTSTART;TZID=America/Chicago:20231209T193000
DTEND;TZID=America/Chicago:20231209T193000
DTSTAMP:20260423T225900
CREATED:20230826T155549Z
LAST-MODIFIED:20231027T153640Z
UID:4547-1702150200-1702150200@www.apollochorus.org
SUMMARY:Händel’s Messiah
DESCRIPTION:One of Chicago’s greatest holiday traditions\, audiences flock to hear the thrilling renditions of Händel’s Messiah by the Apollo Chorus. This year we are proud to announce a quartet of internationally-acclaimed soloists\, including soprano Katelyn Lee\, mezzo-soprano Lindsey Adams\, tenor Sam Krausz\, and bass Bill McMurray. \nSeating at Holy Name Cathedral is general admission. Tickets are priced at $35 for students and $50 for regular attendees. Group rates are available. \nTickets are now available!\n\nPlease Click Here to Purchase Tickets
URL:https://www.apollochorus.org/event/handels-messiah-2023-1/
LOCATION:Holy Name Cathedral\, 735 N State St\, Chicago\, IL\, 60654\, United States
CATEGORIES:Home Page Carousel,In the Community,Our Apollo Season
END:VEVENT
BEGIN:VEVENT
DTSTART;TZID=America/Chicago:20231105T150000
DTEND;TZID=America/Chicago:20231105T150000
DTSTAMP:20260423T225900
CREATED:20230825T194355Z
LAST-MODIFIED:20230919T210759Z
UID:4541-1699196400-1699196400@www.apollochorus.org
SUMMARY:Fall Preview Concert
DESCRIPTION:The Apollo Chorus of Chicago will preview our 2023-24 season of musical glory with selections from Händel’s sublime Messiah to Bruckner’s powerful Te Deum\, from Poulenc’s celebratory Gloria to exquisite French motets. \nThis performance of the Apollo Chorus is free to attend.
URL:https://www.apollochorus.org/event/fall-preview-2023/
LOCATION:Kehrein Center for the Arts\, 5628 W Washington Blvd\, Chicago\, IL\, 60644\, United States
CATEGORIES:Home Page Carousel,In the Community,Our Apollo Season
END:VEVENT
END:VCALENDAR