BEGIN:VCALENDAR
VERSION:2.0
PRODID:-//Apollo Chorus of Chicago - ECPv6.15.13//NONSGML v1.0//EN
CALSCALE:GREGORIAN
METHOD:PUBLISH
X-ORIGINAL-URL:https://www.apollochorus.org
X-WR-CALDESC:Events for Apollo Chorus of Chicago
REFRESH-INTERVAL;VALUE=DURATION:PT1H
X-Robots-Tag:noindex
X-PUBLISHED-TTL:PT1H
BEGIN:VTIMEZONE
TZID:America/Chicago
BEGIN:DAYLIGHT
TZOFFSETFROM:-0600
TZOFFSETTO:-0500
TZNAME:CDT
DTSTART:20230312T080000
END:DAYLIGHT
BEGIN:STANDARD
TZOFFSETFROM:-0500
TZOFFSETTO:-0600
TZNAME:CST
DTSTART:20231105T070000
END:STANDARD
BEGIN:DAYLIGHT
TZOFFSETFROM:-0600
TZOFFSETTO:-0500
TZNAME:CDT
DTSTART:20240310T080000
END:DAYLIGHT
BEGIN:STANDARD
TZOFFSETFROM:-0500
TZOFFSETTO:-0600
TZNAME:CST
DTSTART:20241103T070000
END:STANDARD
BEGIN:DAYLIGHT
TZOFFSETFROM:-0600
TZOFFSETTO:-0500
TZNAME:CDT
DTSTART:20250309T080000
END:DAYLIGHT
BEGIN:STANDARD
TZOFFSETFROM:-0500
TZOFFSETTO:-0600
TZNAME:CST
DTSTART:20251102T070000
END:STANDARD
END:VTIMEZONE
BEGIN:VEVENT
DTSTART;TZID=America/Chicago:20241214T190000
DTEND;TZID=America/Chicago:20241214T213000
DTSTAMP:20260424T190217
CREATED:20240730T233103Z
LAST-MODIFIED:20250311T181124Z
UID:4704-1734202800-1734211800@www.apollochorus.org
SUMMARY:Händel's Messiah
DESCRIPTION:One of Chicago’s greatest holiday traditions\, audiences flock to hear the thrilling renditions of Händel’s Messiah by the Apollo Chorus. This year we are proud to announce a quartet of internationally-acclaimed soloists\, including soprano Josefien Stoppelenburg\, mezzo-soprano Kayleigh Decker\, tenor Martin Luther Clark\, and bass-baritone Stephen Clark.\n \nTickets are now available!\n\nPlease Click Here to Purchase Tickets
URL:https://www.apollochorus.org/event/handels-messiah-2024-1/
LOCATION:Gannon Concert Hall – Holtschneider Performance Center at DePaul\, 2330 N Halsted St\, Chicago\, IL\, 60614\, United States
CATEGORIES:Home Page Carousel,Our Apollo Season
END:VEVENT
BEGIN:VEVENT
DTSTART;TZID=America/Chicago:20241215T140000
DTEND;TZID=America/Chicago:20241215T163000
DTSTAMP:20260424T190217
CREATED:20240730T233144Z
LAST-MODIFIED:20241105T194924Z
UID:4706-1734271200-1734280200@www.apollochorus.org
SUMMARY:Händel's Messiah
DESCRIPTION:One of Chicago’s greatest holiday traditions\, audiences flock to hear the thrilling renditions of Händel’s Messiah by the Apollo Chorus. This year we are proud to announce a quartet of internationally-acclaimed soloists\, including soprano Josefien Stoppelenburg\, mezzo-soprano Kayleigh Decker\, tenor Martin Luther Clark\, and bass-baritone Stephen Clark. \nTickets are now available!\n\nPlease Click Here to Purchase Tickets
URL:https://www.apollochorus.org/event/handels-messiah-2024-2/
LOCATION:Alice Millar Chapel\, 1870 Sheridan Rd\, Evanston\, IL\, 60208\, United States
CATEGORIES:Home Page Carousel,Our Apollo Season
END:VEVENT
END:VCALENDAR